BEGIN:VCALENDAR
VERSION:2.0
PRODID:-//www.darrendrakefoundation.org//NONSGML calendar-event//EN
METHOD:PUBLISH
BEGIN:VEVENT
UID:71550027868
DTSTAMP:20190310T150000
DTSTART:20190310T150000
DTEND:20190310T180000
LOCATION:
SUMMARY:St. Patrick's Day Fundraiser Celebration
DESCRIPTION:St. Patrick's Day Fundraiser Celebration
END:VEVENT
END:VCALENDAR